BEGIN:VCALENDAR
VERSION:2.0
PRODID:https://github.com/derhansen/sf_event_mgt
METHOD:PUBLISH
BEGIN:VEVENT
UID:5965-975@www.sagw.ch
CLASS: PUBLIC
SUMMARY:Vortrag: Ombretta Cesca, "Gods on Stage in Attic Drama"
DESCRIPTION:Prof. Dr. Ombretta Cesca (Lausanne)\n\nMittwoch, 22. April 2026
 , 18:15 UhrUniversität Zürich\n\nhttps://www.iaka.uzh.ch/apps/static/php/he
 llas.php
DTSTAMP:20260412T125946Z
DTSTART:20260422T161500Z
DTEND:20260422T180000Z
END:VEVENT
END:VCALENDAR