BEGIN:VCALENDAR
VERSION:2.0
PRODID:https://github.com/derhansen/sf_event_mgt
METHOD:PUBLISH
BEGIN:VEVENT
UID:5952-975@www.sagw.ch
CLASS: PUBLIC
SUMMARY:Journée d'études: "Éditer le passé: transmettre l'héritage ancien à l'ère numérique - Formation pratique à l'édition critique des textes de l'Antiquité au Moyen Âge"
DESCRIPTION:Organisée par la Conférence universitaire de Suisse occidentale
 , le Groupe Suisse d'Etudes Patristiques et la Faculté de Théologie\n\nVend
 redi 17 avril, 09h00–18h00Université de Lausanne, salle Anthropole 5183\n\n
 et à distance: Lien Zoom: https://unilu.zoom.us/j/95590452711?pwd=V3B3TTc2a
 DJ5S2xNdVdZQzVoL2c2QT09 \n\nContact: alexey.morozov@unifr.ch\n\nInscription
  jusqu’au 15 avril: https://theologie.cuso.ch/?id=877&tx_displaycontroller[
 showUid]=8596
DTSTAMP:20260328T052135Z
DTSTART:20260417T070000Z
DTEND:20260417T160000Z
END:VEVENT
END:VCALENDAR