BEGIN:VCALENDAR
VERSION:2.0
PRODID:https://github.com/derhansen/sf_event_mgt
METHOD:PUBLISH
BEGIN:VEVENT
UID:5944-975@www.sagw.ch
CLASS: PUBLIC
SUMMARY:Conférence: Thomas Schmidt, "Les erreurs des autres: Plutarque et la critique de ses sources historiques"
DESCRIPTION:Professeur Thomas Schmidt (Université de Fribourg)\n\nLundi 27 
 avril 2026, 14:15 – 15:00Université de Genève, Bâtiment Philosophes – salle
  PHIL 016\n\nFlyer
DTSTAMP:20260324T205425Z
DTSTART:20260427T121500Z
DTEND:20260427T130000Z
END:VEVENT
END:VCALENDAR