BEGIN:VCALENDAR
VERSION:2.0
PRODID:https://github.com/derhansen/sf_event_mgt
METHOD:PUBLISH
BEGIN:VEVENT
UID:289-156@www.sagw.ch
CLASS: PUBLIC
SUMMARY:Big Data in den Sozialwissenschaften – Herausforderungen und Chancen
DESCRIPTION:«Big Data» ist ein Schlagwort, an dem man nicht mehr vorbeikomm
 t. In der Schweiz wird die Diskussion bislang vorwiegend unter informatikbe
 zogenen und juristischen Aspekten geführt. Es bleibt jedoch unklar, was mit
  „Big Data“ genau gemeint ist. Oft werden unrealistische Erwartungen an die
  Nutzung solcher Daten für die sozialwissenschaftliche Forschung, aber auch
  für evidence based politics geknüpft.\n\nProf. Dr. Frauke Kreuter von der 
 Universität Mannheim hält die Keynote zum Thema «Data Science in den Sozial
 wissenschaften». Am Ende der Veranstaltung findet eine Podiumsdiskussion st
 att.\n\nTagungsziel\n\n 	Präsentation sozialwissenschaftlicher Anwendungsbe
 ispiele, die zeigen, dass Big Data Eingang in die Forschung gefunden hat un
 d relevante wissenschaftliche sowie anwendungsorientierte Resultate vorweis
 en kann 	Diskussion der methodologischen Fragen, welche die Verwendung von 
 Big Data-Ansätzen mit sich bringen 	Thematisierung der Auswirkungen auf das
  Verständnis und die Sicht auf die Gesellschaft \n\nZielpublikum\n\n 	Sozia
 lwissenschaftlerinnen und Sozialwissenschaftler 	Akteure aus dem öffentlich
 en Bereich (Bund, Kantone, swissuniversities etc.) 	Multiplikatoren (Medien
 , Hochschulen) \n\nLeitfragen\n\n 	Wie werden Big-Data-Methoden in einzelne
 n Themenbereichen angewendet? 	Inwiefern können Big-Data-Ansätze und -Daten
 grundlagen neue Forschungsergebnisse hervorbringen, die mit herkömmlichen M
 ethoden nicht zu erlangen sind? 	Culture of matching: Wie verhalten sich Ko
 rrelationen und statistische Signifikanzen in grossen Datenmengen? 	Wie sin
 d die Qualität und die Verfügbarkeit der Daten, wie können Verzerrungen ver
 mieden werden? 	Verändern Big Data-Ansätze das Verhältnis zur und die Sicht
  auf die Gesellschaft („granulare Gesellschaft“)? \n\nReferentinnen und Ref
 erenten\n\n 	Andreas Amsler (Open Covernment Data Kanton Zürich) 	Peter Far
 ago (ehemals FORS, Präsident CPS) 	Fabrizio Gilardi (Universität Zürich) 	T
 homas Häussler (Universität Bern) 	Antje Kirchner (RTI International, USA u
 nd University of Nebraska - Lincoln, USA) 	Frauke Kreuter (Universität Mann
 heim) 	Diego Kuonen (Statoo Consulting & Université de Genève)Lucas Leemann
  (Universität Zürich) 	Lucas Leemann (Universität Zürich) 	Georg Lutz (Dire
 ktor FORS) 	Rainer Diaz-Bone (Universität Luzern) 	Mike Martin (Universität
  Zürich) 	Georges-Simon Ulrich (Direktor BfS) 	Markus Zürcher (SAGW) \n\nOr
 ganisation\n\nDie Tagung wurde durch den Wissenschaftspolitischen Rat für d
 ie Sozialwissenschaften (WRS), ein Fachgremium der Schweizerischen Akademie
  der Geistes- und Sozialwissenschaften (SAGW) unter der Leitung von Prof. D
 r. Peter Farago, initiiert. Für die Konzeption zeichnet eine Arbeitsgruppe 
 verantwortlich, bestehend aus:\n\n 	Prof. Dr. Peter Farago, Präsident CPS 	
 Prof. Dr. Paolo Ghisletta, Université de Genève 	Prof. Dr. Fabrizio Gilardi
 , Universität Zürich 	Prof. Dr. Sophie Mützel, Universität Luzern 	Dr. Beat
  Immenhauser, SAGW 
DTSTAMP:20190805T082142Z
DTSTART:20181109T101400Z
DTEND:20181109T111400Z
END:VEVENT
END:VCALENDAR