BEGIN:VCALENDAR
VERSION:2.0
PRODID:https://github.com/derhansen/sf_event_mgt
METHOD:PUBLISH
BEGIN:VEVENT
UID:1176-156@www.sagw.ch
CLASS: PUBLIC
SUMMARY:Altersfreundliche Umgebungen: integrierte Wohn- und Sozialräume als Chance für alle!
DESCRIPTION:Die Tagung will die Vielfalt und die Möglichkeiten von altersfr
 eundlichen Umgebungen in der Schweiz aufzeigen. Im Fokus stehen dabei die d
 rei Themenkomplexe: «Wohnformen und -Settings», «Öffentlicher Raum, Gebäude
 , Verkehr und Mobilität» und «Gesellschaftliche Partizipation».\n\nTagungsp
 ogramm \n\nAbstracts und CVs \n\nListe der Marktplatz-Projekte\n\nSchutzkon
 zept (Teilnahme nur mit Covid-Zertifikat möglich) \n\nDie demografische Ent
 wicklung erfordert Anpassungen in zahlreichen Lebensbereichen. Eine dieser 
 grossen Herausforderung ist gemäss der WHO-Strategie «Strategy and Action P
 lan on Ageing and Health» (2015) das Schaffen von altersfreundlichen Umgebu
 ngen. Solche Umgebungen werden den Bedürfnissen aller Generationen gerecht 
 und fördern somit ihre Gesundheit, Autonomie, Selbstständigkeit und Partizi
 pation im Sinne einer funktionalen Lebensqualität («Tun können, was man wer
 tschätzt»). Sofern sie partizipativ konzipiert wurden, helfen altersfreundl
 iche Umgebungen, Altersdiskriminierungen zu vermeiden, fördern die gesellsc
 haftliche Partizipation der älteren und vulnerablen Bevölkerung sowie die i
 ntergenerationellen Beziehungen und bieten allen Personen Sicherheit. Somit
  sind sämtliche Lebens- und politische Bereiche von diesem strategischen Zi
 el der WHO betroffen: zum Beispiel der öffentliche Raum (Infrastrukturen, M
 obilität), das Wohnen und die Förderung der gesellschaftlichen und politisc
 hen Partizipation.\n\nZiel und Zielpublikum der Tagung «Altersfreundliche U
 mgebungen»\n\nDie Tagung will die Vielfalt und die Möglichkeiten von alters
 freundlichen Umgebungen in der Schweiz aufzeigen. Ausserdem will sie den Au
 stausch zwischen den Akteuren und die Verbreitung von Best-Practice Beispie
 len fördern. Grundsätzlich soll aufgezeigt werden, dass die Gesundheit im S
 inne der funktionalen Lebensqualität, die Funktionseinschränkungen mitberüc
 ksichtigt und zu kompensieren versucht, zu grossen Teilen ausserhalb des Ge
 sundheitsbereichs gefördert wird.\n\nPrioritär berücksichtigt werden die fo
 lgenden drei Themen:\n\n 	Wohnformen und -settings (inkl. Pflege und Betreu
 ung) 	Öffentlicher Raum, Gebäude, Verkehr und Mobilität 	Gesellschaftliche 
 Partizipation (der älteren Menschen in der Gesellschaft und der Gesellschaf
 t in «Caring Communities») \n\nZum Zielpublikum gehören primär öffentliche,
  zivilgesellschaftliche wie auch private Akteure, die sich für die Umsetzun
 g altersfreundlicher Umgebungen einsetzen: SeniorInnen, Fachleute aus der P
 raxis wie auch Akteure der öffentlichen Verwaltung auf Ebene der Gemeinden,
  Städte und Kantone. Folgende Fachbereiche sind besonders angesprochen: Soz
 iales, Betreuung und Pflege, Infrastruktur, Mobilität, Raumplanung, Archite
 ktur und Wohn- wie auch Immobilienwirtschaft. Ebenfalls zum Zielpublikum zä
 hlen Akteure aus der Altersforschung.\n\nAnmeldung\n\n 	Tagungsgebühr: CHF 
 100.- (keine Ermässigungen) 	Anmeldefrist: Montag, 8. November 2021 \n\nDie
  Anmeldefrist für die Tagung ist abgelaufen. Es werden keine neuen Anmeldun
 gen aufgenommen.\n\nAnfahrt\n\nÖV Tramlinie 9 ab Bahnhof Bern (Richtung Wan
 kdorf), Haltestelle «Kursaal».\n\nAuto Autobahnausfahrten 36 und 37, über a
 usgewiesene Umleitung zum Kursaal-Parking «Schänzlihalde» fahren (im Naviga
 tionssystem «Schule für Gestaltung, Schänzlihalde 31» eingeben, von dort au
 s folgen Sie dem Strassenverlauf rechts bis zur Einfahrt des Kursaal Parkin
 g).\n\n\n\n\n\n
LOCATION:Kursaal Bern
DTSTAMP:20211109T090320Z
DTSTART:20211116T080000Z
DTEND:20211116T080000Z
END:VEVENT
END:VCALENDAR