BEGIN:VCALENDAR
VERSION:2.0
PRODID:https://github.com/derhansen/sf_event_mgt
METHOD:PUBLISH
BEGIN:VEVENT
UID:5967-975@www.sagw.ch
CLASS: PUBLIC
SUMMARY:Isocrates and Aristotle. Colloquium in honorem Prof. em. Dr. Christoph Eucken
DESCRIPTION:Anlässlich der Verleihung der Ehrenmitgliedschaft durch die Soc
 ietas Isocratica\n\nMittwoch, 22. April 2026, 18:15 Hörraum 101, Hochschuls
 trasse 4, Bern\n\nFlyer
DTSTAMP:20260412T144115Z
DTSTART:20260422T161500Z
DTEND:20260422T180000Z
END:VEVENT
END:VCALENDAR