BEGIN:VCALENDAR
VERSION:2.0
PRODID:https://github.com/derhansen/sf_event_mgt
METHOD:PUBLISH
BEGIN:VEVENT
UID:5959-975@www.sagw.ch
CLASS: PUBLIC
SUMMARY:GREGL: Séance de printemps
DESCRIPTION:Samedi 25 avril, 09h30-14h00 (environ)Salle M1150 d’Uni Mail, B
 d du Pont-d’Arve 40, 1205 Genève\n\nProgramme
DTSTAMP:20260401T191947Z
DTSTART:20260425T073000Z
DTEND:20260425T120000Z
END:VEVENT
END:VCALENDAR