BEGIN:VCALENDAR
VERSION:2.0
PRODID:https://github.com/derhansen/sf_event_mgt
METHOD:PUBLISH
BEGIN:VEVENT
UID:5954-975@www.sagw.ch
CLASS: PUBLIC
SUMMARY:Conférence: Paolo Costa, "Thessalonica: A 'Civitas Libera' and the Gospel. Reading Acts 17:1–10a through the Lens of Roman Law"
DESCRIPTION:Prof. Paolo Costa (Pontificio Istituto Biblico, Roma)\n\nMardi 
 28 avril, 15h15-17h00Université de Fribourg, Bâtiment MIS 10, salle 1.16\n\
 nContact: cedric.brelaz@unifr.chhttps://www.unifr.ch/iab/fr/news/agenda/?ev
 entid=19540
DTSTAMP:20260328T052818Z
DTSTART:20260428T131500Z
DTEND:20260428T150000Z
END:VEVENT
END:VCALENDAR