BEGIN:VCALENDAR
VERSION:2.0
PRODID:https://github.com/derhansen/sf_event_mgt
METHOD:PUBLISH
BEGIN:VEVENT
UID:289-156@www.sagw.ch
CLASS: PUBLIC
SUMMARY:Le Big Data pour les sciences sociales-défis et opportunités
DESCRIPTION:Le terme « Big Data » ne peut plus être évité. En suisse, la di
 scussion fut jusqu’à présent principalement menée du point de vue de l’info
 rmatique et des aspects juridiques. Ce qui est entendu par « Big Data » res
 te cependant peu clair. Il n’est pas rare de rencontrer des attentes irréal
 istes liées à l’utilisation de telles données pour la recherche en sciences
  sociales ou encore pour les evidence based politics.\n\nLe Pr. Dr. Frauke 
 Kreuter de l’Université de Mannheim s’exprime sur le thème : « Data Science
  in den Sozialwissenschaften ». Un débat d’expert/table ronde/discussion pu
 blique clôturera l’événement. \n\nObjectifs de la conférence\n\n 	Présentat
 ion d’exemples d’applications en sciences sociales ; ceux-ci démontrent que
  le Big Data a réussi son entrée dans la recherche et qu’il présente des ré
 sultats scientifiques et pratiques pertinents. 	Discussion autour des quest
 ions méthodologiques liées à l’utilisation du Big Data 	Réflexion sur l’inf
 luence et les répercussions de ces outils sur notre conception/ compréhensi
 on de la société \n\nPublic cible\n\n 	Sociologues 	Acteurs du secteur publ
 ic (gouvernement, cantons, swissuniversities, etc.) 	Multiplicateurs (média
 s, hautes écoles) \n\nQuestions clés\n\n 	Comment les méthodes du Big Data 
 sont-elles utilisées dans des domaines différents 	Dans quelle mesure les a
 pproches Big Data et les bases de données peuvent-elles fournir de nouveaux
  résultats de recherche inatteignables par le biais des méthodes traditionn
 elles ? 	Culture of matching: Comment les corrélations et la signification 
 statistique se comportent-elles dans de grandes quantités de données ? 	Que
 lles sont la qualité et la disponibilité des données ? Comment éviter des d
 istorsions ? 	Les bases de Big Data ont-elles un impact sur le comportement
  ou sur les conceptions sociales ?  \n\nConférencières et conférenciers\n\n
  	Andreas Amsler (Open Covernment Data Kanton Zürich) 	Peter Farago (ehemal
 s FORS, Präsident CPS) 	Fabrizio Gilardi (Universität Zürich) 	Thomas Häuss
 ler (Universität Bern) 	Antje Kirchner (RTI International, USA und Universi
 ty of Nebraska - Lincoln, USA) 	Frauke Kreuter (Universität Mannheim) 	Dieg
 o Kuonen (Statoo Consulting & Université de Genève)Lucas Leemann (Universit
 ät Zürich) 	Lucas Leemann (Universität Zürich) 	Georg Lutz (Direktor FORS) 
 	Rainer Diaz-Bone (Universität Luzern) 	Mike Martin (Universität Zürich) 	G
 eorges-Simon Ulrich (Direktor BfS) 	Markus Zürcher (SAGW) \n\nOrganisation\
 n\nDie Tagung wurde durch den Wissenschaftspolitischen Rat für die Sozialwi
 ssenschaften (WRS), ein Fachgremium der Schweizerischen Akademie der Geiste
 s- und Sozialwissenschaften (SAGW) unter der Leitung von Prof. Dr. Peter Fa
 rago, initiiert. Für die Konzeption zeichnet eine Arbeitsgruppe verantwortl
 ich, bestehend aus:\n\n 	Prof. Dr. Peter Farago, Präsident CPS 	Prof. Dr. P
 aolo Ghisletta, Université de Genève 	Prof. Dr. Fabrizio Gilardi, Universit
 ät Zürich 	Prof. Dr. Sophie Mützel, Universität Luzern 	Dr. Beat Immenhause
 r, SAGW \n\nDownload CVs und Abstracts der Referentinnen und Referenten\n\n
 Organisation\n\nCette manifestation fut initiée par le Conseil de politique
  des sciences sociales (CPS), une commission de l’Académie suisse des scien
 ces humaines et sociales (ASSH), sous la direction du Pr. Dr. Peter Farago.
  La conception de ce colloque fut réalisée par un groupe de travail composé
  de :\n\nProf. Dr. Peter Farago, Präsident CPS Prof. Dr. Paolo Ghisletta, U
 niversité de Genève Prof. Dr. Fabrizio Gilardi, Universität Zürich Prof. Dr
 . Sophie Mützel, Universität Luzern Dr. Beat Immenhauser, SAGW
DTSTAMP:20190805T082142Z
DTSTART:20181109T101400Z
DTEND:20181109T111400Z
END:VEVENT
END:VCALENDAR